{
 "currentVersion": 11.3,
 "serviceDescription": "BaseMap/NearMap2025",
 "name": "BaseMap/NearMap2025",
 "description": "",
 "extent": {
  "xmin": 1870815.586019531,
  "ymin": 711685.7159046502,
  "xmax": 2114123.398210242,
  "ymax": 925997.9561882019,
  "spatialReference": {
   "wkid": 3361,
   "latestWkid": 3361
  }
 },
 "initialExtent": {
  "xmin": 1870815.586019531,
  "ymin": 711685.7159046502,
  "xmax": 2114123.398210242,
  "ymax": 925997.9561882019,
  "spatialReference": {
   "wkid": 3361,
   "latestWkid": 3361
  }
 },
 "fullExtent": {
  "xmin": 1870815.586019531,
  "ymin": 711685.7159046502,
  "xmax": 2114123.398210242,
  "ymax": 925997.9561882019,
  "spatialReference": {
   "wkid": 3361,
   "latestWkid": 3361
  }
 },
 "sortableFields": "",
 "bandCount": 3,
 "pixelType": "U8",
 "minValues": [],
 "maxValues": [],
 "meanValues": [],
 "stdvValues": [],
 "hasMultidimensions": false,
 "pixelSizeX": 0.42385609944830976,
 "pixelSizeY": 0.42385609944831,
 "meanPixelSize": 0.12919133911184486,
 "datasetFormat": "AFR",
 "uncompressedSize": 870737823750,
 "blockWidth": 256,
 "blockHeight": 256,
 "compressionType": "None",
 "bandNames": [
  "Band_1",
  "Band_2",
  "Band_3"
 ],
 "allowCopy": true,
 "allowAnalysis": true,
 "itemAccess": false,
 "inspectionCapabilities": "",
 "minPixelSize": 0,
 "maxPixelSize": 0,
 "copyrightText": "",
 "serviceDataType": "esriImageServiceDataTypeRGB",
 "serviceSourceType": "esriImageServiceSourceTypeDataset",
 "objectIdField": "",
 "fields": [],
 "capabilities": "Mensuration,Image,Metadata",
 "defaultMosaicMethod": "Center",
 "allowedMosaicMethods": "",
 "sortField": "",
 "sortValue": null,
 "sortAscending": true,
 "mosaicOperator": "First",
 "defaultCompressionQuality": 75,
 "defaultResamplingMethod": "Bilinear",
 "maxImageHeight": 4100,
 "maxImageWidth": 15000,
 "allowRasterFunction": true,
 "rasterFunctionInfos": [
  {
   "name": "None",
   "description": "",
   "help": ""
  }
 ],
 "rasterTypeInfos": [
  {
   "name": "Raster Dataset",
   "description": "Supports all ArcGIS Raster Datasets",
   "help": ""
  }
 ],
 "mensurationCapabilities": "Basic",
 "hasHistograms": false,
 "hasColormap": false,
 "hasRasterAttributeTable": false,
 "minScale": 0,
 "maxScale": 0,
 "exportTilesAllowed": false,
 "supportsStatistics": false,
 "supportsAdvancedQueries": false,
 "editFieldsInfo": null,
 "ownershipBasedAccessControlForRasters": null,
 "allowComputeTiePoints": false,
 "useStandardizedQueries": true,
 "advancedQueryCapabilities": {
  "useStandardizedQueries": true,
  "supportsStatistics": false,
  "supportsOrderBy": false,
  "supportsDistinct": false,
  "supportsPagination": false
 },
 "spatialReference": {
  "wkid": 3361,
  "latestWkid": 3361
 },
 "resampling": false
}
